0.1
0
0
-0.1
595650.153420437
4719867.84199363
