0.1
0
0
-0.1
594803.852461472
4719277.7427954
