0.1
0
0
-0.1
595658.163649165
4719289.52823195
