0.1
0
0
-0.1
598221.09792778
4719325.52169227
