0.1
0
0
-0.1
599929.722737908
4719349.94184423
