0.1
0
0
-0.1
604201.285909092
4719413.10791173
