0.1
0
0
-0.1
605909.919348957
4719439.21872702
