0.1
0
0
-0.1
604218.720480459
4718256.47222976
