0.1
0
0
-0.1
594843.535357614
4716386.16695349
