0.1
0
0
-0.1
599954.816627613
4717614.98953723
