0.1
0
0
-0.1
600834.630642964
4715892.45416298
