0.1
0
0
-0.1
605099.546139623
4716534.57289226
