0.1
0
0
-0.1
604253.595467902
4715943.20034472
