0.1
0
0
-0.1
605108.334743598
4715956.25503416
