0.1
0
0
-0.1
595722.21172577
4714663.01249637
