0.1
0
0
-0.1
594883.195793929
4713494.59746509
