0.1
0
0
-0.1
596593.231935846
4713518.17377765
