0.1
0
0
-0.1
598278.633903412
4715277.31210353
