0.1
0
0
-0.1
597440.110471986
4714108.48267111
