0.1
0
0
-0.1
598295.060977094
4714120.68521804
