0.1
0
0
-0.1
601706.371353764
4714748.4573228
