0.1
0
0
-0.1
603416.137480386
4714773.72396758
