0.1
0
0
-0.1
600859.91749873
4714157.51079787
