0.1
0
0
-0.1
604271.022217523
4714786.5668892
