0.1
0
0
-0.1
604288.442971053
4713629.93392501
