0.1
0
0
-0.1
595754.214049103
4712349.76683048
