0.1
0
0
-0.1
600876.774573668
4713000.88371022
