0.1
0
0
-0.1
602586.961483416
4713026.14453362
