0.1
0
0
-0.1
603442.056419686
4713038.7756689
