0.1
0
0
-0.1
601740.366175598
4712435.19759563
