0.1
0
0
-0.1
603450.69678873
4712460.45564618
