0.1
0
0
-0.1
600893.627388935
4711844.25434606
