0.1
0
0
-0.1
603459.336996458
4711882.13484449
