0.1
0
0
-0.1
600902.053824918
4711265.9393013
