0.1
0
0
-0.1
603467.976815113
4711303.8136357
