0.1
0
0
-0.1
602621.231978777
4710712.87247194
