0.1
0
0
-0.1
598327.914332566
4711807.4353696
