0.1
0
0
-0.1
597480.818785747
4711216.92301005
