0.1
0
0
-0.1
596649.719093902
4709470.00061298
