0.1
0
0
-0.1
599199.715625676
4710663.0125704
