0.1
0
0
-0.1
599207.994203758
4710084.70143261
