0.1
0
0
-0.1
599224.549862213
4708928.07965052
