0.1
0
0
-0.1
600918.894199167
4710109.31420537
