0.1
0
0
-0.1
602638.351084513
4709556.24854442
