0.1
0
0
-0.1
605196.149076491
4710173.07021041
