0.1
0
0
-0.1
605204.923093778
4709594.75441426
