0.1
0
0
-0.1
606060.450250054
4709607.80137532
