0.1
0
0
-0.1
604358.09835427
4709003.39444675
