0.1
0
0
-0.1
596673.915609234
4707735.07595771
