0.1
0
0
-0.1
598377.167914
4708337.57060403
